BEGIN:VCALENDAR
VERSION:2.0
PRODID:icalendar-ruby
CALSCALE:GREGORIAN
METHOD:PUBLISH
BEGIN:VEVENT
DTSTAMP:20260424T143614Z
UID:6-260058@presencechurch.org.uk
DTSTART:20261002T053000Z
DTEND:20261002T063000Z
CLASS:PUBLIC
CREATED:20260424T132604
DESCRIPTION:
LAST-MODIFIED:20260424T132604
LOCATION:
SUMMARY:Furnace Morning Prayer
URL;VALUE=URI:https://presencechurch.org.uk/events/furnace-morning-prayer/2
 026-10-02
ATTACH;FILENAME=furnace-no-date.jpg;FMTTYPE=image/jpeg:https://dq5pwpg1q8ru
 0.cloudfront.net/2025/10/10/15/14/01/ba232b0d-6fb9-4a75-a66a-ef529e7eb907/
 furnace-no-date.jpg
ATTACH;FILENAME=Furnace-Morning-no-date.jpg;FMTTYPE=image/jpeg:https://dq5p
 wpg1q8ru0.cloudfront.net/2025/10/10/15/15/51/03ce48ac-d45f-4c7f-8391-cc943
 ef49c93/Furnace-Morning-no-date.jpg
END:VEVENT
END:VCALENDAR
